Package: signifinder Version: 1.9.3 Command: /Library/Frameworks/R.framework/Resources/bin/R CMD build --keep-empty-dirs --no-resave-data signifinder StartedAt: 2025-02-04 17:37:33 -0500 (Tue, 04 Feb 2025) EndedAt: 2025-02-04 17:38:45 -0500 (Tue, 04 Feb 2025) EllapsedTime: 72.9 seconds RetCode: 0 Status: OK PackageFile: signifinder_1.9.3.tar.gz PackageFileSize: 9.828 MiB