Package: signifinder Version: 1.9.3 Command: /Library/Frameworks/R.framework/Resources/bin/R CMD check --install=check:signifinder.install-out.txt --library=/Library/Frameworks/R.framework/Resources/library --no-vignettes --timings signifinder_1.9.3.tar.gz StartedAt: 2025-02-09 21:22:29 -0500 (Sun, 09 Feb 2025) EndedAt: 2025-02-09 21:29:47 -0500 (Sun, 09 Feb 2025) EllapsedTime: 437.3 seconds RetCode: 0 Status: OK CheckDir: signifinder.Rcheck Warnings: 0