Package: signifinder Version: 1.9.3 Command: /Library/Frameworks/R.framework/Resources/bin/R CMD INSTALL signifinder StartedAt: 2025-02-09 15:29:40 -0500 (Sun, 09 Feb 2025) EndedAt: 2025-02-09 15:30:00 -0500 (Sun, 09 Feb 2025) EllapsedTime: 20.0 seconds RetCode: 0 Status: OK