Package: signifinder Version: 1.9.3 Command: /home/biocbuild/R/R/bin/R CMD build --keep-empty-dirs --no-resave-data signifinder StartedAt: 2025-01-29 02:21:52 -0000 (Wed, 29 Jan 2025) EndedAt: 2025-01-29 02:25:30 -0000 (Wed, 29 Jan 2025) EllapsedTime: 217.2 seconds RetCode: 0 Status: OK PackageFile: signifinder_1.9.3.tar.gz PackageFileSize: 8.121 MiB