Package: signifinder Version: 1.9.3 Command: /home/biocbuild/R/R/bin/R CMD check --install=check:signifinder.install-out.txt --library=/home/biocbuild/R/R/site-library --no-vignettes --timings signifinder_1.9.3.tar.gz StartedAt: 2025-01-28 15:20:58 -0000 (Tue, 28 Jan 2025) EndedAt: 2025-01-28 15:45:33 -0000 (Tue, 28 Jan 2025) EllapsedTime: 1474.7 seconds RetCode: 0 Status: OK CheckDir: signifinder.Rcheck Warnings: 0