Package: signifinder Version: 1.9.3 Command: /home/biocbuild/R/R/bin/R CMD INSTALL signifinder StartedAt: 2025-01-29 20:37:37 -0000 (Wed, 29 Jan 2025) EndedAt: 2025-01-29 20:38:52 -0000 (Wed, 29 Jan 2025) EllapsedTime: 74.5 seconds RetCode: 0 Status: OK