Package: signifinder Version: 1.9.3 Command: rm -rf signifinder.buildbin-libdir && mkdir signifinder.buildbin-libdir && /Users/biocbuild/BBS/utils/build-universal.sh signifinder_1.9.3.tar.gz /Library/Frameworks/R.framework/Resources/bin/R signifinder.buildbin-libdir StartedAt: 2025-02-05 01:02:48 -0500 (Wed, 05 Feb 2025) EndedAt: 2025-02-05 01:04:04 -0500 (Wed, 05 Feb 2025) EllapsedTime: 76.3 seconds RetCode: 0 Status: OK PackageFile: signifinder_1.9.3.tgz PackageFileSize: 7.489 MiB