Package: signifinder Version: 1.9.3 Command: /home/biocbuild/bbs-3.21-bioc/R/bin/R CMD build --keep-empty-dirs --no-resave-data signifinder StartedAt: 2025-02-09 19:17:28 -0500 (Sun, 09 Feb 2025) EndedAt: 2025-02-09 19:20:18 -0500 (Sun, 09 Feb 2025) EllapsedTime: 170.2 seconds RetCode: 0 Status: OK PackageFile: signifinder_1.9.3.tar.gz PackageFileSize: 9.558 MiB