Package: signifinder Version: 1.9.3 Command: /home/biocbuild/bbs-3.21-bioc/R/bin/R CMD check --install=check:signifinder.install-out.txt --library=/home/biocbuild/bbs-3.21-bioc/R/site-library --timings signifinder_1.9.3.tar.gz StartedAt: 2025-02-10 02:39:42 -0500 (Mon, 10 Feb 2025) EndedAt: 2025-02-10 03:01:10 -0500 (Mon, 10 Feb 2025) EllapsedTime: 1288.5 seconds RetCode: 0 Status: OK CheckDir: signifinder.Rcheck Warnings: 0