Package: signifinder Version: 1.9.3 Command: /home/biocbuild/bbs-3.21-bioc/R/bin/R CMD INSTALL signifinder StartedAt: 2025-02-09 15:59:08 -0500 (Sun, 09 Feb 2025) EndedAt: 2025-02-09 16:00:02 -0500 (Sun, 09 Feb 2025) EllapsedTime: 54.3 seconds RetCode: 0 Status: OK