Package: signifinder Version: 1.9.3 Command: rm -rf signifinder.buildbin-libdir && mkdir signifinder.buildbin-libdir && E:\biocbuild\bbs-3.21-bioc\R\bin\R.exe CMD INSTALL --build --library=signifinder.buildbin-libdir signifinder_1.9.3.tar.gz StartedAt: 2025-02-10 08:43:26 -0500 (Mon, 10 Feb 2025) EndedAt: 2025-02-10 08:45:18 -0500 (Mon, 10 Feb 2025) EllapsedTime: 112.0 seconds RetCode: 0 Status: OK PackageFile: signifinder_1.9.3.zip PackageFileSize: 5.913 MiB