Package: signifinder Version: 1.9.3 Command: E:\biocbuild\bbs-3.21-bioc\R\bin\R.exe CMD check --no-multiarch --install=check:signifinder.install-out.txt --library=E:\biocbuild\bbs-3.21-bioc\R\library --no-vignettes --timings signifinder_1.9.3.tar.gz StartedAt: 2025-02-10 05:28:09 -0500 (Mon, 10 Feb 2025) EndedAt: 2025-02-10 05:50:28 -0500 (Mon, 10 Feb 2025) EllapsedTime: 1338.4 seconds RetCode: 0 Status: OK CheckDir: signifinder.Rcheck Warnings: 0