Package: signifinder Version: 1.9.3 Command: E:\biocbuild\bbs-3.21-bioc\R\bin\R.exe CMD INSTALL signifinder StartedAt: 2025-02-09 16:46:45 -0500 (Sun, 09 Feb 2025) EndedAt: 2025-02-09 16:48:11 -0500 (Sun, 09 Feb 2025) EllapsedTime: 86.4 seconds RetCode: 0 Status: OK