Package: sigsquared Version: 1.39.0 Command: /home/biocbuild/R/R/bin/R CMD build --keep-empty-dirs --no-resave-data sigsquared StartedAt: 2025-01-29 02:22:05 -0000 (Wed, 29 Jan 2025) EndedAt: 2025-01-29 02:22:33 -0000 (Wed, 29 Jan 2025) EllapsedTime: 28.0 seconds RetCode: 0 Status: OK PackageFile: sigsquared_1.39.0.tar.gz PackageFileSize: 444.8 KiB