Package: sigsquared Version: 1.39.0 Command: rm -rf sigsquared.buildbin-libdir && mkdir sigsquared.buildbin-libdir && /Users/biocbuild/BBS/utils/build-universal.sh sigsquared_1.39.0.tar.gz /Library/Frameworks/R.framework/Resources/bin/R sigsquared.buildbin-libdir StartedAt: 2025-02-10 01:16:58 -0500 (Mon, 10 Feb 2025) EndedAt: 2025-02-10 01:17:12 -0500 (Mon, 10 Feb 2025) EllapsedTime: 13.9 seconds RetCode: 0 Status: OK PackageFile: sigsquared_1.39.0.tgz PackageFileSize: 421.1 KiB