Package: sigsquared Version: 1.39.0 Command: /Library/Frameworks/R.framework/Resources/bin/R CMD INSTALL sigsquared StartedAt: 2025-02-09 15:31:34 -0500 (Sun, 09 Feb 2025) EndedAt: 2025-02-09 15:31:45 -0500 (Sun, 09 Feb 2025) EllapsedTime: 11.6 seconds RetCode: 0 Status: OK