Package: sigsquared Version: 1.39.0 Command: chmod a+r sigsquared -R && E:\biocbuild\bbs-3.21-bioc\R\bin\R.exe CMD build --keep-empty-dirs --no-resave-data sigsquared StartedAt: 2025-02-09 21:41:14 -0500 (Sun, 09 Feb 2025) EndedAt: 2025-02-09 21:42:07 -0500 (Sun, 09 Feb 2025) EllapsedTime: 53.0 seconds RetCode: 0 Status: OK PackageFile: sigsquared_1.39.0.tar.gz PackageFileSize: 341.4 KiB