Package: sigsquared Version: 1.39.0 Command: E:\biocbuild\bbs-3.21-bioc\R\bin\R.exe CMD check --no-multiarch --install=check:sigsquared.install-out.txt --library=E:\biocbuild\bbs-3.21-bioc\R\library --no-vignettes --timings sigsquared_1.39.0.tar.gz StartedAt: 2025-02-13 05:37:07 -0500 (Thu, 13 Feb 2025) EndedAt: 2025-02-13 05:38:18 -0500 (Thu, 13 Feb 2025) EllapsedTime: 71.0 seconds RetCode: 0 Status: OK CheckDir: sigsquared.Rcheck Warnings: 0