Package: simPIC Version: 1.3.0 Command: rm -rf simPIC.buildbin-libdir && mkdir simPIC.buildbin-libdir && /Users/biocbuild/BBS/utils/build-universal.sh simPIC_1.3.0.tar.gz /Library/Frameworks/R.framework/Resources/bin/R simPIC.buildbin-libdir StartedAt: 2025-02-09 22:31:13 -0500 (Sun, 09 Feb 2025) EndedAt: 2025-02-09 22:31:24 -0500 (Sun, 09 Feb 2025) EllapsedTime: 11.2 seconds RetCode: 0 Status: OK PackageFile: simPIC_1.3.0.tgz PackageFileSize: 2.382 MiB