Package: simPIC Version: 1.3.0 Command: /Library/Frameworks/R.framework/Resources/bin/R CMD build --keep-empty-dirs --no-resave-data simPIC StartedAt: 2025-02-03 18:14:02 -0500 (Mon, 03 Feb 2025) EndedAt: 2025-02-03 18:14:24 -0500 (Mon, 03 Feb 2025) EllapsedTime: 22.2 seconds RetCode: 0 Status: OK PackageFile: simPIC_1.3.0.tar.gz PackageFileSize: 1.151 MiB