Package: simPIC Version: 1.3.0 Command: /Library/Frameworks/R.framework/Resources/bin/R CMD INSTALL simPIC StartedAt: 2025-02-09 15:20:37 -0500 (Sun, 09 Feb 2025) EndedAt: 2025-02-09 15:20:46 -0500 (Sun, 09 Feb 2025) EllapsedTime: 9.2 seconds RetCode: 0 Status: OK