Package: simPIC Version: 1.3.0 Command: /home/biocbuild/R/R/bin/R CMD INSTALL simPIC StartedAt: 2025-01-29 20:17:34 -0000 (Wed, 29 Jan 2025) EndedAt: 2025-01-29 20:18:06 -0000 (Wed, 29 Jan 2025) EllapsedTime: 32.2 seconds RetCode: 0 Status: OK