Package: simPIC Version: 1.3.0 Command: rm -rf simPIC.buildbin-libdir && mkdir simPIC.buildbin-libdir && /Users/biocbuild/BBS/utils/build-universal.sh simPIC_1.3.0.tar.gz /Library/Frameworks/R.framework/Resources/bin/R simPIC.buildbin-libdir StartedAt: 2025-02-10 01:17:05 -0500 (Mon, 10 Feb 2025) EndedAt: 2025-02-10 01:17:42 -0500 (Mon, 10 Feb 2025) EllapsedTime: 36.7 seconds RetCode: 0 Status: OK PackageFile: simPIC_1.3.0.tgz PackageFileSize: 2.369 MiB