Package: simPIC Version: 1.3.0 Command: /home/biocbuild/bbs-3.21-bioc/R/bin/R CMD build --keep-empty-dirs --no-resave-data simPIC StartedAt: 2025-02-09 19:18:01 -0500 (Sun, 09 Feb 2025) EndedAt: 2025-02-09 19:18:52 -0500 (Sun, 09 Feb 2025) EllapsedTime: 51.0 seconds RetCode: 0 Status: OK PackageFile: simPIC_1.3.0.tar.gz PackageFileSize: 1.144 MiB