Package: simPIC Version: 1.3.0 Command: /home/biocbuild/bbs-3.21-bioc/R/bin/R CMD INSTALL simPIC StartedAt: 2025-02-03 15:33:13 -0500 (Mon, 03 Feb 2025) EndedAt: 2025-02-03 15:33:38 -0500 (Mon, 03 Feb 2025) EllapsedTime: 24.8 seconds RetCode: 0 Status: OK