Package: simPIC Version: 1.3.0 Command: chmod a+r simPIC -R && E:\biocbuild\bbs-3.21-bioc\R\bin\R.exe CMD build --keep-empty-dirs --no-resave-data simPIC StartedAt: 2025-02-03 21:54:16 -0500 (Mon, 03 Feb 2025) EndedAt: 2025-02-03 21:55:34 -0500 (Mon, 03 Feb 2025) EllapsedTime: 77.6 seconds RetCode: 0 Status: OK PackageFile: simPIC_1.3.0.tar.gz PackageFileSize: 1.104 MiB