Package: similaRpeak Version: 1.39.0 Command: /Library/Frameworks/R.framework/Resources/bin/R CMD build --keep-empty-dirs --no-resave-data similaRpeak StartedAt: 2025-02-12 17:37:58 -0500 (Wed, 12 Feb 2025) EndedAt: 2025-02-12 17:38:10 -0500 (Wed, 12 Feb 2025) EllapsedTime: 11.1 seconds RetCode: 0 Status: OK PackageFile: similaRpeak_1.39.0.tar.gz PackageFileSize: 2.145 MiB