Package: similaRpeak Version: 1.39.0 Command: rm -rf similaRpeak.buildbin-libdir && mkdir similaRpeak.buildbin-libdir && /Users/biocbuild/BBS/utils/build-universal.sh similaRpeak_1.39.0.tar.gz /Library/Frameworks/R.framework/Resources/bin/R similaRpeak.buildbin-libdir StartedAt: 2025-02-10 01:17:02 -0500 (Mon, 10 Feb 2025) EndedAt: 2025-02-10 01:17:13 -0500 (Mon, 10 Feb 2025) EllapsedTime: 11.5 seconds RetCode: 0 Status: OK PackageFile: similaRpeak_1.39.0.tgz PackageFileSize: 2.369 MiB