Package: simona Version: 1.5.0 Maintainer: Zuguang Gu MaintainerEmail: z.gu at dkfz.de git_url: https://git.bioconductor.org/packages/simona git_branch: devel git_last_commit: 40a2e14 git_last_commit_date: 2024-10-29 11:24:04 -0500 (Tue, 29 Oct 2024)