Package: simona Version: 1.5.0 Command: /Library/Frameworks/R.framework/Resources/bin/R CMD INSTALL simona StartedAt: 2025-02-12 15:16:24 -0500 (Wed, 12 Feb 2025) EndedAt: 2025-02-12 15:16:46 -0500 (Wed, 12 Feb 2025) EllapsedTime: 21.4 seconds RetCode: 0 Status: OK