Package: simona Version: 1.5.0 Command: /home/biocbuild/R/R/bin/R CMD build --keep-empty-dirs --no-resave-data simona StartedAt: 2025-01-29 02:22:45 -0000 (Wed, 29 Jan 2025) EndedAt: 2025-01-29 02:24:46 -0000 (Wed, 29 Jan 2025) EllapsedTime: 121.1 seconds RetCode: 0 Status: OK PackageFile: simona_1.5.0.tar.gz PackageFileSize: 944.7 KiB