Package: simona Version: 1.5.0 Command: /home/biocbuild/R/R/bin/R CMD INSTALL simona StartedAt: 2025-01-29 20:09:14 -0000 (Wed, 29 Jan 2025) EndedAt: 2025-01-29 20:11:22 -0000 (Wed, 29 Jan 2025) EllapsedTime: 127.9 seconds RetCode: 0 Status: OK