Package: simona Version: 1.5.0 Command: /Library/Frameworks/R.framework/Resources/bin/R CMD check --install=check:simona.install-out.txt --library=/Library/Frameworks/R.framework/Resources/library --no-vignettes --timings simona_1.5.0.tar.gz StartedAt: 2025-02-12 23:24:55 -0500 (Wed, 12 Feb 2025) EndedAt: 2025-02-12 23:27:21 -0500 (Wed, 12 Feb 2025) EllapsedTime: 146.6 seconds RetCode: 0 Status: OK CheckDir: simona.Rcheck Warnings: 0