Package: simona Version: 1.5.0 Command: chmod a+r simona -R && E:\biocbuild\bbs-3.21-bioc\R\bin\R.exe CMD build --keep-empty-dirs --no-resave-data simona StartedAt: 2025-02-12 21:47:46 -0500 (Wed, 12 Feb 2025) EndedAt: 2025-02-12 21:50:50 -0500 (Wed, 12 Feb 2025) EllapsedTime: 184.6 seconds RetCode: 0 Status: OK PackageFile: simona_1.5.0.tar.gz PackageFileSize: 944.2 KiB