Package: simpleSeg Version: 1.9.0 Maintainer: Ellis Patrick MaintainerEmail: ellis.patrick at sydney.edu.au git_url: https://git.bioconductor.org/packages/simpleSeg git_branch: devel git_last_commit: 4649541 git_last_commit_date: 2024-10-29 11:15:51 -0500 (Tue, 29 Oct 2024)