Package: simpleSeg Version: 1.9.0 Command: rm -rf simpleSeg.buildbin-libdir && mkdir simpleSeg.buildbin-libdir && /Users/biocbuild/BBS/utils/build-universal.sh simpleSeg_1.9.0.tar.gz /Library/Frameworks/R.framework/Resources/bin/R simpleSeg.buildbin-libdir StartedAt: 2025-02-13 00:59:26 -0500 (Thu, 13 Feb 2025) EndedAt: 2025-02-13 01:00:32 -0500 (Thu, 13 Feb 2025) EllapsedTime: 66.7 seconds RetCode: 0 Status: OK PackageFile: simpleSeg_1.9.0.tgz PackageFileSize: 4.708 MiB