Package: simpleSeg Version: 1.9.0 Command: chmod a+r simpleSeg -R && E:\biocbuild\bbs-3.21-bioc\R\bin\R.exe CMD build --keep-empty-dirs --no-resave-data simpleSeg StartedAt: 2025-02-09 21:42:08 -0500 (Sun, 09 Feb 2025) EndedAt: 2025-02-09 21:45:40 -0500 (Sun, 09 Feb 2025) EllapsedTime: 212.2 seconds RetCode: 0 Status: OK PackageFile: simpleSeg_1.9.0.tar.gz PackageFileSize: 4.463 MiB