Package: singscore Version: 1.27.0 Command: /Library/Frameworks/R.framework/Resources/bin/R CMD build --keep-empty-dirs --no-resave-data singscore StartedAt: 2025-02-09 17:38:29 -0500 (Sun, 09 Feb 2025) EndedAt: 2025-02-09 17:38:54 -0500 (Sun, 09 Feb 2025) EllapsedTime: 25.3 seconds RetCode: 0 Status: OK PackageFile: singscore_1.27.0.tar.gz PackageFileSize: 2.904 MiB