Package: singscore Version: 1.27.0 Command: /Library/Frameworks/R.framework/Resources/bin/R CMD INSTALL singscore StartedAt: 2025-02-12 15:26:05 -0500 (Wed, 12 Feb 2025) EndedAt: 2025-02-12 15:26:48 -0500 (Wed, 12 Feb 2025) EllapsedTime: 43.3 seconds RetCode: 0 Status: OK