Package: singscore Version: 1.27.0 Command: /home/biocbuild/bbs-3.21-bioc/R/bin/R CMD INSTALL singscore StartedAt: 2025-02-09 15:28:52 -0500 (Sun, 09 Feb 2025) EndedAt: 2025-02-09 15:29:23 -0500 (Sun, 09 Feb 2025) EllapsedTime: 31.6 seconds RetCode: 0 Status: OK