Package: singscore Version: 1.27.0 Command: E:\biocbuild\bbs-3.21-bioc\R\bin\R.exe CMD check --no-multiarch --install=check:singscore.install-out.txt --library=E:\biocbuild\bbs-3.21-bioc\R\library --no-vignettes --timings singscore_1.27.0.tar.gz StartedAt: 2025-02-10 05:33:05 -0500 (Mon, 10 Feb 2025) EndedAt: 2025-02-10 05:37:47 -0500 (Mon, 10 Feb 2025) EllapsedTime: 282.4 seconds RetCode: 0 Status: OK CheckDir: singscore.Rcheck Warnings: 0