Package: sitePath Version: 1.23.0 Command: /home/biocbuild/R/R/bin/R CMD build --keep-empty-dirs --no-resave-data sitePath StartedAt: 2025-01-29 02:25:22 -0000 (Wed, 29 Jan 2025) EndedAt: 2025-01-29 02:26:57 -0000 (Wed, 29 Jan 2025) EllapsedTime: 95.1 seconds RetCode: 0 Status: OK PackageFile: sitePath_1.23.0.tar.gz PackageFileSize: 907.4 KiB