Package: sitePath Version: 1.23.0 Command: rm -rf sitePath.buildbin-libdir && mkdir sitePath.buildbin-libdir && /Users/biocbuild/BBS/utils/build-universal.sh sitePath_1.23.0.tar.gz /Library/Frameworks/R.framework/Resources/bin/R sitePath.buildbin-libdir StartedAt: 2025-02-10 01:17:15 -0500 (Mon, 10 Feb 2025) EndedAt: 2025-02-10 01:17:58 -0500 (Mon, 10 Feb 2025) EllapsedTime: 43.6 seconds RetCode: 0 Status: OK PackageFile: sitePath_1.23.0.tgz PackageFileSize: 1.495 MiB