Package: sitePath Version: 1.23.0 Command: /Library/Frameworks/R.framework/Resources/bin/R CMD check --install=check:sitePath.install-out.txt --library=/Library/Frameworks/R.framework/Resources/library --no-vignettes --timings sitePath_1.23.0.tar.gz StartedAt: 2025-02-12 23:26:22 -0500 (Wed, 12 Feb 2025) EndedAt: 2025-02-12 23:35:36 -0500 (Wed, 12 Feb 2025) EllapsedTime: 553.9 seconds RetCode: 0 Status: OK CheckDir: sitePath.Rcheck Warnings: 0