Package: sitePath Version: 1.23.0 Command: /Library/Frameworks/R.framework/Resources/bin/R CMD INSTALL sitePath StartedAt: 2025-02-09 15:15:08 -0500 (Sun, 09 Feb 2025) EndedAt: 2025-02-09 15:15:50 -0500 (Sun, 09 Feb 2025) EllapsedTime: 41.8 seconds RetCode: 0 Status: OK