Package: sitePath Version: 1.23.0 Command: /home/biocbuild/bbs-3.21-bioc/R/bin/R CMD build --keep-empty-dirs --no-resave-data sitePath StartedAt: 2025-02-09 19:19:35 -0500 (Sun, 09 Feb 2025) EndedAt: 2025-02-09 19:20:31 -0500 (Sun, 09 Feb 2025) EllapsedTime: 56.1 seconds RetCode: 0 Status: OK PackageFile: sitePath_1.23.0.tar.gz PackageFileSize: 1.214 MiB