Package: sitePath Version: 1.23.0 Command: /home/biocbuild/bbs-3.21-bioc/R/bin/R CMD check --install=check:sitePath.install-out.txt --library=/home/biocbuild/bbs-3.21-bioc/R/site-library --timings sitePath_1.23.0.tar.gz StartedAt: 2025-02-10 02:44:01 -0500 (Mon, 10 Feb 2025) EndedAt: 2025-02-10 02:52:02 -0500 (Mon, 10 Feb 2025) EllapsedTime: 481.5 seconds RetCode: 0 Status: OK CheckDir: sitePath.Rcheck Warnings: 0