Package: sizepower Version: 1.77.0 Command: /Library/Frameworks/R.framework/Resources/bin/R CMD INSTALL sizepower StartedAt: 2025-02-09 15:01:04 -0500 (Sun, 09 Feb 2025) EndedAt: 2025-02-09 15:01:05 -0500 (Sun, 09 Feb 2025) EllapsedTime: 1.1 seconds RetCode: 0 Status: OK