Package: sizepower Version: 1.77.0 Command: /Library/Frameworks/R.framework/Resources/bin/R CMD build --keep-empty-dirs --no-resave-data sizepower StartedAt: 2025-02-09 18:30:20 -0500 (Sun, 09 Feb 2025) EndedAt: 2025-02-09 18:30:29 -0500 (Sun, 09 Feb 2025) EllapsedTime: 9.1 seconds RetCode: 0 Status: OK PackageFile: sizepower_1.77.0.tar.gz PackageFileSize: 295.5 KiB