Package: sizepower Version: 1.77.0 Command: /Library/Frameworks/R.framework/Resources/bin/R CMD INSTALL sizepower StartedAt: 2025-02-12 15:03:42 -0500 (Wed, 12 Feb 2025) EndedAt: 2025-02-12 15:04:10 -0500 (Wed, 12 Feb 2025) EllapsedTime: 28.2 seconds RetCode: 0 Status: OK